BEGIN:VCALENDAR
VERSION:2.0
PRODID:-//Mahila Seva Samaja - ECPv6.0.9//NONSGML v1.0//EN
CALSCALE:GREGORIAN
METHOD:PUBLISH
X-WR-CALNAME:Mahila Seva Samaja
X-ORIGINAL-URL:https://mahilasevasamaja.com
X-WR-CALDESC:Events for Mahila Seva Samaja
REFRESH-INTERVAL;VALUE=DURATION:PT1H
X-Robots-Tag:noindex
X-PUBLISHED-TTL:PT1H
BEGIN:VTIMEZONE
TZID:UTC
BEGIN:STANDARD
TZOFFSETFROM:+0000
TZOFFSETTO:+0000
TZNAME:UTC
DTSTART:20230101T000000
END:STANDARD
END:VTIMEZONE
BEGIN:VEVENT
DTSTART;TZID=UTC:20231016T100000
DTEND;TZID=UTC:20231021T140000
DTSTAMP:20260423T221942
CREATED:20231012T061628Z
LAST-MODIFIED:20231012T061628Z
UID:2388-1697450400-1697896800@mahilasevasamaja.com
SUMMARY:WORKSHOP - Making of TELESCOPE
DESCRIPTION:16th October to 21st October making of telescope workshop for students of classes 6th standard to 10th standard by Sri.Satish Aryabhata.
URL:https://mahilasevasamaja.com/event/workshop-making-of-telescope/
LOCATION:School\, 80\, Krishna Rajendra Rd\, Near Basanavagudi\, Shankarapura\, Bengaluru\, Karnataka\, 560004\, India
END:VEVENT
BEGIN:VEVENT
DTSTART;TZID=UTC:20231003T100000
DTEND;TZID=UTC:20231111T140000
DTSTAMP:20260423T221942
CREATED:20231012T085737Z
LAST-MODIFIED:20231012T085737Z
UID:2391-1696327200-1699711200@mahilasevasamaja.com
SUMMARY:YAKSHAGANA
DESCRIPTION:Yakshagana practice go by Sri.Srinivasa Shasthan from 3rd October 2023. \nYakshagana programme will be held in the month of November 2023.
URL:https://mahilasevasamaja.com/event/yakshagana/
LOCATION:School\, 80\, Krishna Rajendra Rd\, Near Basanavagudi\, Shankarapura\, Bengaluru\, Karnataka\, 560004\, India
END:VEVENT
BEGIN:VEVENT
DTSTART;VALUE=DATE:20230331
DTEND;VALUE=DATE:20230701
DTSTAMP:20260423T221942
CREATED:20230401T051948Z
LAST-MODIFIED:20230401T053029Z
UID:2292-1680220800-1688169599@mahilasevasamaja.com
SUMMARY:Admission Open 2023-24
DESCRIPTION:
URL:https://mahilasevasamaja.com/event/admission-open-2023-24/
LOCATION:School\, 80\, Krishna Rajendra Rd\, Near Basanavagudi\, Shankarapura\, Bengaluru\, Karnataka\, 560004\, India
ATTACH;FMTTYPE=image/jpeg:https://mahilasevasamaja.com/wp-content/uploads/2023/03/School-Admission-2023-24.pptx.jpg
END:VEVENT
BEGIN:VEVENT
DTSTART;VALUE=DATE:20230218
DTEND;VALUE=DATE:20230219
DTSTAMP:20260423T221942
CREATED:20230117T050513Z
LAST-MODIFIED:20230401T052459Z
UID:1278-1676678400-1676764799@mahilasevasamaja.com
SUMMARY:Founder’s Day
DESCRIPTION:Founder’s Day celebrated on Shivaratri.
URL:https://mahilasevasamaja.com/event/founders-day/
LOCATION:School\, 80\, Krishna Rajendra Rd\, Near Basanavagudi\, Shankarapura\, Bengaluru\, Karnataka\, 560004\, India
ATTACH;FMTTYPE=image/jpeg:https://mahilasevasamaja.com/wp-content/uploads/2023/01/Founders-Day-Celebration-scaled.jpg
END:VEVENT
BEGIN:VEVENT
DTSTART;VALUE=DATE:20230204
DTEND;VALUE=DATE:20230205
DTSTAMP:20260423T221942
CREATED:20221213T032224Z
LAST-MODIFIED:20230210T072941Z
UID:808-1675468800-1675555199@mahilasevasamaja.com
SUMMARY:Amurathavarshini and Saraswathi Pooja
DESCRIPTION:Annual Music Festival\, Amurathavarshini and Saraswathi Pooja
URL:https://mahilasevasamaja.com/event/parents-teachers-meeting-high-school/
LOCATION:School\, 80\, Krishna Rajendra Rd\, Near Basanavagudi\, Shankarapura\, Bengaluru\, Karnataka\, 560004\, India
ATTACH;FMTTYPE=image/jpeg:https://mahilasevasamaja.com/wp-content/uploads/2023/01/111.jpg
END:VEVENT
BEGIN:VEVENT
DTSTART;VALUE=DATE:20230126
DTEND;VALUE=DATE:20230127
DTSTAMP:20260423T221942
CREATED:20221213T032306Z
LAST-MODIFIED:20230117T050352Z
UID:811-1674691200-1674777599@mahilasevasamaja.com
SUMMARY:Sports Day
DESCRIPTION:Sports day for all students.
URL:https://mahilasevasamaja.com/event/sports-day/
LOCATION:School\, 80\, Krishna Rajendra Rd\, Near Basanavagudi\, Shankarapura\, Bengaluru\, Karnataka\, 560004\, India
ATTACH;FMTTYPE=image/jpeg:https://mahilasevasamaja.com/wp-content/uploads/2023/01/DSC_0996_1500.jpg
END:VEVENT
END:VCALENDAR